BEGIN:VCALENDAR
VERSION:2.0
PRODID:-//OmniMagnetCalendar//EN
BEGIN:VEVENT
DTSTAMP:20190625T195740Z
STATUS:CONFIRMED
UID:orangecounty.illiniclub.org263
DTSTART:20250920T233000Z
DTEND:20250921T023000Z
LOCATION:Classic Q, 4251 MacArthur Blvd, Newport Beach, CA, 92660,
SUMMARY:Illinois vs Indiana Football Gamewatch Party
DESCRIPTION:Join us on Saturday in Newport Beach!
BEGIN:VALARM
TRIGGER:-PT15M
ACTION:DISPLAY
END:VALARM
TRANSP:OPAQUE
END:VEVENT
END:VCALENDAR
